BEGIN:VCALENDAR
VERSION:2.0
PRODID:-//St. Joseph&#039;s NS - ECPv4.5.13//NONSGML v1.0//EN
CALSCALE:GREGORIAN
METHOD:PUBLISH
X-WR-CALNAME:St. Joseph&#039;s NS
X-ORIGINAL-URL:https://dunlaoghairens.ie
X-WR-CALDESC:Events for St. Joseph&#039;s NS
BEGIN:VEVENT
DTSTART;VALUE=DATE:20180219
DTEND;VALUE=DATE:20180219
DTSTAMP:20171106T090428
CREATED:20170630T113048Z
LAST-MODIFIED:20170804T154706Z
UID:1421-1518998400-1519084799@dunlaoghairens.ie
SUMMARY:School Re-Opening - Monday 19th February 2018
DESCRIPTION:The school will re-open after the February mid-term break on Monday 19th February 2018 at 8:50 AM. \n
URL:https://dunlaoghairens.ie/event/term-2-school-reopens/
CATEGORIES:Reopening,Term 2
END:VEVENT
END:VCALENDAR