BEGIN:VCALENDAR
VERSION:2.0
PRODID:-//St. Joseph&#039;s NS - ECPv4.5.13//NONSGML v1.0//EN
CALSCALE:GREGORIAN
METHOD:PUBLISH
X-WR-CALNAME:St. Joseph&#039;s NS
X-ORIGINAL-URL:https://dunlaoghairens.ie
X-WR-CALDESC:Events for St. Joseph&#039;s NS
BEGIN:VEVENT
DTSTART;VALUE=DATE:20180215
DTEND;VALUE=DATE:20180216
DTSTAMP:20171106T090412
CREATED:20170630T113017Z
LAST-MODIFIED:20170804T154616Z
UID:1399-1518652800-1518825599@dunlaoghairens.ie
SUMMARY:February Mid-Term Break - Thursday 15th and Friday 16th February 2018
DESCRIPTION:The school will be closed on Thursday 15th and Friday 16th February 2018 for the February mid-term break. The school will re-open at 08:50 AM on Monday 19th February 2018. \n
URL:https://dunlaoghairens.ie/event/term-2-february-mid-term-break/
CATEGORIES:Mid-Term Break,Term 2
END:VEVENT
END:VCALENDAR