BEGIN:VCALENDAR
VERSION:2.0
PRODID:-//St. Joseph&#039;s NS - ECPv4.5.13//NONSGML v1.0//EN
CALSCALE:GREGORIAN
METHOD:PUBLISH
X-WR-CALNAME:St. Joseph&#039;s NS
X-ORIGINAL-URL:https://dunlaoghairens.ie
X-WR-CALDESC:Events for St. Joseph&#039;s NS
BEGIN:VEVENT
DTSTART;VALUE=DATE:20180319
DTEND;VALUE=DATE:20180319
DTSTAMP:20171106T084755
CREATED:20170630T113020Z
LAST-MODIFIED:20170804T154805Z
UID:1404-1521417600-1521503999@dunlaoghairens.ie
SUMMARY:St. Patrick's Day 2018 - Monday 19th March
DESCRIPTION:The school will be closed on Monday 19th March for the St. Patrick’s Day national holiday. \n
URL:https://dunlaoghairens.ie/event/st-patricks-day/
CATEGORIES:National Holiday,Term 2
END:VEVENT
END:VCALENDAR