BEGIN:VCALENDAR
VERSION:2.0
PRODID:-//St. Joseph&#039;s NS - ECPv4.5.13//NONSGML v1.0//EN
CALSCALE:GREGORIAN
METHOD:PUBLISH
X-WR-CALNAME:St. Joseph&#039;s NS
X-ORIGINAL-URL:https://dunlaoghairens.ie
X-WR-CALDESC:Events for St. Joseph&#039;s NS
BEGIN:VEVENT
DTSTART;VALUE=DATE:20171222
DTEND;VALUE=DATE:20180105
DTSTAMP:20171106T085248
CREATED:20170630T113020Z
LAST-MODIFIED:20170804T153824Z
UID:1355-1513900800-1515196799@dunlaoghairens.ie
SUMMARY:Christmas Break - Friday 22nd December 2017 to Monday 8th January 2018
DESCRIPTION:The school will close at 12-noon on Friday 22nd December 2017. The school will re-open at 8:50 AM on Monday 8th January 2018. \n
URL:https://dunlaoghairens.ie/event/christmas-break/
CATEGORIES:Christmas Break,Term 1,Term 1 End Date
END:VEVENT
END:VCALENDAR