BEGIN:VCALENDAR
VERSION:2.0
PRODID:-//St. Joseph&#039;s NS - ECPv4.5.13//NONSGML v1.0//EN
CALSCALE:GREGORIAN
METHOD:PUBLISH
X-WR-CALNAME:St. Joseph&#039;s NS
X-ORIGINAL-URL:https://dunlaoghairens.ie
X-WR-CALDESC:Events for St. Joseph&#039;s NS
BEGIN:VEVENT
DTSTART;TZID=Europe/Dublin:20171014T093000
DTEND;TZID=Europe/Dublin:20171022T180000
DTSTAMP:20171024T023139
CREATED:20170804T001717Z
LAST-MODIFIED:20170804T003647Z
UID:1302-1507973400-1508695200@dunlaoghairens.ie
SUMMARY:Maths Week Ireland 2017
DESCRIPTION:Maths Week Ireland is an all-Ireland celebration of Mathematics and its applications and is a partnership of over 50 groups – universities\, institutes of technology\, colleges\, museums\, libraries\, visitor centres\, professional bodies indeed any group that sees the importance of maths and the importance of promoting maths. \nMaths Week Ireland promotes\, awareness\, appreciation and understanding of maths through a huge variety of events and activities. \n\nFounded and coordinated by Eoin Gill and Sheila Donegan of Calmast\, Waterford Institute of Technology’s STEM outreach centre. The festival has now grown to be the biggest festival of its kind in the world. \nMaths Week Ireland 2017 will be the 12th birthday of Maths Week Ireland\, and will take place from Saturday 14th to Sunday 22nd October. \n
URL:https://dunlaoghairens.ie/event/maths-week-ireland-2017/
CATEGORIES:Annual Events,Maths Week
ATTACH;FMTTYPE=image/jpeg:https://dunlaoghairens.ie/wp-content/uploads/2017/08/Maths-Eyes-Logo.jpg
END:VEVENT
BEGIN:VEVENT
DTSTART;VALUE=DATE:20171027
DTEND;VALUE=DATE:20171103
DTSTAMP:20171024T023139
CREATED:20170630T113054Z
LAST-MODIFIED:20170804T152325Z
UID:1388-1509062400-1509753599@dunlaoghairens.ie
SUMMARY:October Mid-Term Break - Friday 27th to Monday 6th November 2017
DESCRIPTION:The school will close at 2:30 PM on Friday 27th October 2017 for the October mid-term break. The school will re-open at 8:50 AM on Monday 6th November 2017. \nEnjoy the mid-term break! \n
URL:https://dunlaoghairens.ie/event/term-1-october-mid-term-break/
CATEGORIES:Mid-Term Break,Term 1
END:VEVENT
END:VCALENDAR