BEGIN:VCALENDAR
VERSION:2.0
PRODID:-//St. Joseph&#039;s NS - ECPv4.5.13//NONSGML v1.0//EN
CALSCALE:GREGORIAN
METHOD:PUBLISH
X-WR-CALNAME:St. Joseph&#039;s NS
X-ORIGINAL-URL:https://dunlaoghairens.ie
X-WR-CALDESC:Events for St. Joseph&#039;s NS
BEGIN:VEVENT
DTSTART;TZID=Europe/Dublin:20171122T143000
DTEND;TZID=Europe/Dublin:20171122T173000
DTSTAMP:20171106T085552
CREATED:20170630T113049Z
LAST-MODIFIED:20170804T154447Z
UID:1390-1511361000-1511371800@dunlaoghairens.ie
SUMMARY:Parent-Teacher Meetings - Wednesday 22nd November 2017
DESCRIPTION:Parent-Teacher meetings will take place on Wednesday 22nd November 2017 between 2:30 PM and 5:30 PM. \n
URL:https://dunlaoghairens.ie/event/parent-teacher-meetings-1/
CATEGORIES:Parent-Teacher Meeting
END:VEVENT
END:VCALENDAR